BEGIN:VCALENDAR
VERSION:2.0
METHOD:PUBLISH
X-WR-CALNAME:UNIVERSITAS INDONESIA DIREKTORAT HUBUNGAN ALUMNI |  June 01 2011- July 01 2011 | Filter\: 
PRODID:-//strange bird labs//Drupal iCal API//EN
BEGIN:VEVENT
DTSTAMP;VALUE=DATE-TIME:20260425T040719Z
DTSTART;VALUE=DATE-TIME:20110628T082100Z
DTEND;VALUE=DATE-TIME:20020203
UID:http://152.118.148.221/content/latar-belakang
URL;VALUE=URI:http://152.118.148.221/content/latar-belakang
SUMMARY:Latar Belakang
DESCRIPTION:<p><!--[if gte mso 9]><xml><br />
 <w\:LatentStyles DefLockedState=\\"false\\" DefUnhideWhenUsed=\\"true\\"<br />
 DefSemiHidden=\\"true\\" DefQFormat=\\"false\\" DefPriority=\\"99\\"<br />
 LatentStyleCount=\\"267\\"><br />
 <w\:LsdException Locked=\\"false\\" Priority=\\"0\\" SemiHidden=\\"false\\"<br />
 UnhideWhenUsed=\\"false\\" QFormat=\\"true\\" Name=\\"Normal\\" /><br />
 <w\:LsdException Locked=\\"false\\" Priority=\\"9\\" SemiHidden=\\"false\\"<br />
 UnhideWhenUsed=\\"false\\" QFormat=\\"true\\" Name=\\"heading 1\\" /><br />
 <w\:LsdException Locked=\\"false\\" Priority=\\"9\\" QFormat=\\"true\\" Name=\\"heading 2\\" /><br />
 <w\:LsdException Locked=\\"false\\" Priority=\\"9\\" QFormat=\\"true\\" Name=\\"heading 3\\" /></w\:lsdexception></w\:lsdexception></w\:lsdexception></w\:lsdexception></w\:latentstyles></xml></p>
 
END:VEVENT
BEGIN:VEVENT
DTSTAMP;VALUE=DATE-TIME:20260425T040719Z
DTSTART;VALUE=DATE-TIME:20110628T082600Z
DTEND;VALUE=DATE-TIME:20020203
UID:http://152.118.148.221/content/home
URL;VALUE=URI:http://152.118.148.221/content/home
SUMMARY:Home
DESCRIPTION:<p>
 <meta content=\\"text/html\; charset=utf-8\\" http-equiv=\\"Content-Type\\" /><br />
 <meta content=\\"Word.Document\\" name=\\"ProgId\\" /><br />
 <meta content=\\"Microsoft Word 12\\" name=\\"Generator\\" /><br />
 <meta content=\\"Microsoft Word 12\\" name=\\"Originator\\" />         <br />
 <br />
 <br />
 
 </p>
 
END:VEVENT
END:VCALENDAR
